Workbook

Sheet Monthly Information
B1: [Cement Plant - Location] Type I/II Cement Data Submission for Indiana DOT (INDOT) | D1: ITM 806-25, Section 28.2.3 & 28. 2.4: For both domestic & foreign cement manufacturers, "the reports or statement shall be submitted within 14 calendar days following the end of the month"
B3: Plant Information
B4: Plant Location:
B5: QC Manager:
B6: E-mail:
B7: Phone Number:
B8: Month & Year:
B10: Constituent & Addition Information
B11: Product Designation:
B12: Constituent Type:
B13: Consituent Source:
B14: Consituent Targeted Amount:
B15: Constituent Actual Amount:
... B24: Monthly Data Summary
B25: Item (ASTM) | C25: Value
B26: Density (g/cm³) (Specific Gravity) (C188)
B27: Sulfate as SO₃ (%) (C114) | C27: ='Daily Sample Information'!H45
B28: *Mortar Bar Expansion (%) (C1038) | C28: ='Daily Sample Information'!I45
B29: Loss on Igntion (%) (C114) | C29: ='Daily Sample Information'!J45
B30: Equivalent Alkalies (%) (C114) | C30: ='Daily Sample Information'!M45
B31: Chloride Content (%) (C114) | C31: ='Daily Sample Information'!N45
B32: Limestone Content (%) (C114) | C32: ='Daily Sample Information'!Q45
B33: CaCO₃ in Limestone (%) (C114) | C33: ='Daily Sample Information'!R45
B34: Total CaCO₃ + MgCO₃ in Limestone (%) (C114) | C34: ='Daily Sample Information'!S45
B35: Air Content (%) (C185) | C35: ='Daily Sample Information'!T45
B36: Normal Consistency (%) (C187) | C36: ='Daily Sample Information'!U45
B37: 45 μm (No. 325) Sieve (%) (C430) | C37: ='Daily Sample Information'!V45
B38: Blaine Fineness (m²/kg) (C204) | C38: ='Daily Sample Information'!W45
B39: Compressive Strength (psi) (3 day) (C109) | C39: ='Daily Sample Information'!AA45
B40: Compressive Strength (psi) (7 day) (C109) | C40: ='Daily Sample Information'!AB45
B41: Compressive Strength (psi) (28 Day, previous month's data) (C109) | C41: ='Daily Sample Information'!AE45
B42: Initial Vicat (minutes) (C191) | C42: ='Daily Sample Information'!X45
B43: Final Vicat (minutes) (C191) | C43: ='Daily Sample Information'!Y45
B44: Heat of Hydration (kJ/kg) (3 Day) (C1702)

Sheet Daily Sample Information
B1: Daily Sample Data Report
B3: Material: | C3: Portland Cement
B4: Type: | C4: I / II
B5: Month - Year:
B7: Test Data
C8: Chemical Data | T8: Physical Data | AE8: Physical Data
B9: Test Name | C9: Chemical Composition of Essential Constituents (XRF) | T9: Air Content | U9: Normal Consistency | V9: Fineness | X9: Vicat Time of Set | Z9: Compressive Strength | AE9: Compressive Strength (previous month)
B10: ASTM Standard | C10: ASTM C114 | I10: ASTM C1038 | J10: ASTM C114 | T10: ASTM C185 | U10: ASTM C187 | V10: ASTM C430 | W10: ASTM C204 | X10: ASTM C191 | Z10: ASTM C109 | AE10: ASTM C109
B11: Spec Limit | C11: N/A | D11: 6.0 max | E11: 6.0 max | F11: N/A | G11: 6.0 max | H11: 3.0 max, when C₃A ≤ 8%* N/A, when C₃A ≥ 8%* | I11: 0.020 max | J11: 3.0 max, when LS is an ingredient 3.5 max, when LS is not an ingredient | K11: N/A | L11: N/A | M11: N/A | N11: N/A | O11: 1.5 max | P11: N/A | Q11: N/A | R11: N/A | S11: N/A | T11: 12.0 max | U11: N/A | V11: N/A | W11: 260 min | X11: 45 min | Y11: 375 max | Z11: N/A | AA11: 1740 min | AB11: 2760 min | AE11: 4060 min
C12: SiO₂ | D12: Al₂O₃ | E12: Fe₂O₃ | F12: CaO | G12: MgO | H12: SO₃ | I12: *Mortar Bar Expansion (Report if SO₃ > 3.0% or 3.5%) | J12: Loss on Ignition (LOI) | K12: Na₂O | L12: K₂O | M12: Equivalent Alkalies Na₂O + 0.658*K₂O | N12: Chloride | O12: Insoluble Residue | P12: fCaO | Q12: Limestone | R12: CaCO₃ in Limestone | S12: Total CaCO₃ & MgCO₃ in LS | T12: Air Content | U12: Water Required for Normal Consistency of Cement Paste | V12: 45 µm (No. 325 Sieve) Fineness | W12: Blaine Fineness | X12: Initial Set | Y12: Final Set | Z12: 1 day | AA12: 3 day | AB12: 7 day | AE12: 28 day (previous month)
C13: % | D13: % | E13: % | F13: % | G13: % | H13: % | I13: % | J13: % | K13: % | L13: % | M13: % | N13: % | O13: % | P13: % | Q13: % | R13: % | S13: % | T13: % | U13: % | V13: % | W13: (m²/kg) | X13: mins | Y13: mins | Z13: psi | AA13: psi | AB13: psi | AD13: Date | AE13: psi
B14: X/X/XXXX | AD14: X/X/XXXX
B45: Monthly Average | C45: =IFERROR(AVERAGE(C14:C44),"") | D45: =IFERROR(AVERAGE(D14:D44),"") | E45: =IFERROR(AVERAGE(E14:E44),"") | F45: =IFERROR(AVERAGE(F14:F44),"") | G45: =IFERROR(AVERAGE(G14:G44),"") | H45: =IFERROR(AVERAGE(H14:H44),"") | I45: =IFERROR(AVERAGE(I14:I44),"") | J45: =IFERROR(AVERAGE(J14:J44),"") | ... AB45: =IFERROR(AVERAGE(AB14:AB44),"") | AD45: Monthly Average | AE45: =IFERROR(AVERAGE(AE14:AE44),"")
